BEGIN:VCALENDAR
VERSION:2.0
PRODID:-//Justine Henin Academy - ECPv6.15.17.1//NONSGML v1.0//EN
CALSCALE:GREGORIAN
METHOD:PUBLISH
X-ORIGINAL-URL:https://academy.justinehenin.be
X-WR-CALDESC:Évènements pour Justine Henin Academy
REFRESH-INTERVAL;VALUE=DURATION:PT1H
X-Robots-Tag:noindex
X-PUBLISHED-TTL:PT1H
BEGIN:VTIMEZONE
TZID:Europe/Brussels
BEGIN:DAYLIGHT
TZOFFSETFROM:+0100
TZOFFSETTO:+0200
TZNAME:CEST
DTSTART:20250330T010000
END:DAYLIGHT
BEGIN:STANDARD
TZOFFSETFROM:+0200
TZOFFSETTO:+0100
TZNAME:CET
DTSTART:20251026T010000
END:STANDARD
BEGIN:DAYLIGHT
TZOFFSETFROM:+0100
TZOFFSETTO:+0200
TZNAME:CEST
DTSTART:20260329T010000
END:DAYLIGHT
BEGIN:STANDARD
TZOFFSETFROM:+0200
TZOFFSETTO:+0100
TZNAME:CET
DTSTART:20261025T010000
END:STANDARD
BEGIN:DAYLIGHT
TZOFFSETFROM:+0100
TZOFFSETTO:+0200
TZNAME:CEST
DTSTART:20270328T010000
END:DAYLIGHT
BEGIN:STANDARD
TZOFFSETFROM:+0200
TZOFFSETTO:+0100
TZNAME:CET
DTSTART:20271031T010000
END:STANDARD
END:VTIMEZONE
BEGIN:VEVENT
DTSTART;TZID=Europe/Brussels:20260516T160000
DTEND;TZID=Europe/Brussels:20260516T173000
DTSTAMP:20260422T122130
CREATED:20260318T115032Z
LAST-MODIFIED:20260422T083032Z
UID:10000025-1778947200-1778952600@academy.justinehenin.be
SUMMARY:Pickleball au Club Justine Henin @Lime
DESCRIPTION:Le Club Justine Henin @Lime propose désormais des séances régulières de Pickleball pour jouer\, ou tester\, ce sport fun et dynamique. \n📅 Prochaine session : samedi 16 Mai de 16h à 17h30\n📍 Club Justine Henin @Lime\n💶 8 € par participant \n👉 Vous ne connaissez pas encore le Pickleball ?\nC’est un sport de raquette à mi-chemin entre le tennis\, le badminton et le ping-pong. On y joue sur un terrain plus petit\, avec une raquette légère et une balle perforée : idéal pour s’amuser\, bouger sans pression et se challenger quel que soit son niveau ! \n🎾 Au programme :\n– Jeu encadré par un coach du club\n– Matériel fourni (raquettes & balles)\n– Ambiance fun\, dynamique et accessible à tous\n– Pas besoin d’expérience\, juste l’envie de s’amuser ! \n👉 Cliquez ici pour vous inscrire !
URL:https://academy.justinehenin.be/evenement/pickleball-au-club-justine-henin-lime-4/
LOCATION:Club Justine Henin\, Av. Léon Fournet 20\, Ottignies-Louvain-la-Neuve\, 1342\, Belgium
CATEGORIES:Animations
ATTACH;FMTTYPE=image/jpeg:https://academy.justinehenin.be/wp-content/uploads/sites/3/2026/03/affiches.jpg
END:VEVENT
END:VCALENDAR